BEGIN:VCALENDAR
VERSION:2.0
PRODID:-//Fiavet Veneto Corsi di Formazione Turismo - ECPv4.8.2//NONSGML v1.0//EN
CALSCALE:GREGORIAN
METHOD:PUBLISH
X-WR-CALNAME:Fiavet Veneto Corsi di Formazione Turismo
X-ORIGINAL-URL:https://www.fiavetvenetoservizi.com
X-WR-CALDESC:Eventi per Fiavet Veneto Corsi di Formazione Turismo
BEGIN:VEVENT
DTSTART;VALUE=DATE:20260202
DTEND;VALUE=DATE:20260205
DTSTAMP:20260425T013843
CREATED:20250929T190115Z
LAST-MODIFIED:20251129T142948Z
UID:2588-1769990400-1770249599@www.fiavetvenetoservizi.com
SUMMARY:CORSO ONLINE Biglietteria Aerea IATA
DESCRIPTION:IL CORSO SI SVOLGERA’ ATTRAVERSO LA PIATTAFORMA ZOOM.US \nORARI:\n02 Febbraio 09.00-12.00 / 14.00-16.00\n03 Febbraio 09.00-12.00 / 14.00-17.00\n04 Febbraio 09.00-12.00 / 14.00-16.00 \n
URL:https://www.fiavetvenetoservizi.com/evento/corso-online-biglietteria-aerea-iata-30/
CATEGORIES:Biglietteria Aerea Costruzione Tariffaria - IATA
END:VEVENT
END:VCALENDAR