BEGIN:VCALENDAR
VERSION:2.0
PRODID:-//Fiavet Veneto Corsi di Formazione Turismo - ECPv4.8.2//NONSGML v1.0//EN
CALSCALE:GREGORIAN
METHOD:PUBLISH
X-WR-CALNAME:Fiavet Veneto Corsi di Formazione Turismo
X-ORIGINAL-URL:https://www.fiavetvenetoservizi.com
X-WR-CALDESC:Eventi per Fiavet Veneto Corsi di Formazione Turismo
BEGIN:VEVENT
DTSTART;VALUE=DATE:20260330
DTEND;VALUE=DATE:20260402
DTSTAMP:20260422T154819
CREATED:20250929T190232Z
LAST-MODIFIED:20251110T180230Z
UID:2590-1774828800-1775087999@www.fiavetvenetoservizi.com
SUMMARY:CORSO ONLINE Biglietteria Aerea IATA
DESCRIPTION:IL CORSO SI SVOLGERA’ ATTRAVERSO LA PIATTAFORMA ZOOM.US \nORARI:\n30 Marzo 09.00-12.00 / 14.00-16.00\n31 Marzo 09.00-12.00 / 14.00-17.00\n01 Aprile 09.00-12.00 / 14.00-16.00 \n
URL:https://www.fiavetvenetoservizi.com/evento/corso-online-biglietteria-aerea-iata-31/
CATEGORIES:Biglietteria Aerea Costruzione Tariffaria - IATA
END:VEVENT
END:VCALENDAR