BEGIN:VCALENDAR
VERSION:2.0
PRODID:-//Fiavet Veneto Corsi di Formazione Turismo - ECPv4.8.2//NONSGML v1.0//EN
CALSCALE:GREGORIAN
METHOD:PUBLISH
X-WR-CALNAME:Fiavet Veneto Corsi di Formazione Turismo
X-ORIGINAL-URL:https://www.fiavetvenetoservizi.com
X-WR-CALDESC:Eventi per Fiavet Veneto Corsi di Formazione Turismo
BEGIN:VEVENT
DTSTART;VALUE=DATE:20260518
DTEND;VALUE=DATE:20260521
DTSTAMP:20260422T135055
CREATED:20250929T190351Z
LAST-MODIFIED:20251110T175715Z
UID:2592-1779062400-1779321599@www.fiavetvenetoservizi.com
SUMMARY:CORSO ONLINE Biglietteria Aerea IATA
DESCRIPTION:IL CORSO SI SVOLGERA’ ATTRAVERSO LA PIATTAFORMA ZOOM.US \nORARI:\n18 Maggio 09.00-12.00 / 14.00-16.00\n19 Maggio 09.00-12.00 / 14.00-17.00\n20 Maggio 09.00-12.00 / 14.00-16.00 \n
URL:https://www.fiavetvenetoservizi.com/evento/corso-online-biglietteria-aerea-iata-32/
CATEGORIES:Biglietteria Aerea Costruzione Tariffaria - IATA
END:VEVENT
END:VCALENDAR