BEGIN:VCALENDAR
VERSION:2.0
PRODID:-//Fiavet Veneto Corsi di Formazione Turismo - ECPv4.8.2//NONSGML v1.0//EN
CALSCALE:GREGORIAN
METHOD:PUBLISH
X-WR-CALNAME:Fiavet Veneto Corsi di Formazione Turismo
X-ORIGINAL-URL:https://www.fiavetvenetoservizi.com
X-WR-CALDESC:Eventi per Fiavet Veneto Corsi di Formazione Turismo
BEGIN:VEVENT
DTSTART;VALUE=DATE:20260805
DTEND;VALUE=DATE:20260808
DTSTAMP:20260423T140528
CREATED:20260423T084718Z
LAST-MODIFIED:20260423T084718Z
UID:2620-1785888000-1786147199@www.fiavetvenetoservizi.com
SUMMARY:CORSO ONLINE Biglietteria Aerea IATA
DESCRIPTION:IL CORSO SI SVOLGERA’ ATTRAVERSO LA PIATTAFORMA ZOOM.US \nORARI:\n05 Agosto 09.00-12.00 / 14.00-16.00\n06 Agosto 09.00-12.00 / 14.00-17.00\n07 Agosto 09.00-12.00 / 14.00-16.00 \n
URL:https://www.fiavetvenetoservizi.com/evento/corso-online-biglietteria-aerea-iata-34/
CATEGORIES:Biglietteria Aerea Costruzione Tariffaria - IATA
END:VEVENT
END:VCALENDAR