BEGIN:VCALENDAR
VERSION:2.0
PRODID:-//Fiavet Veneto Corsi di Formazione Turismo - ECPv4.8.2//NONSGML v1.0//EN
CALSCALE:GREGORIAN
METHOD:PUBLISH
X-WR-CALNAME:Fiavet Veneto Corsi di Formazione Turismo
X-ORIGINAL-URL:https://www.fiavetvenetoservizi.com
X-WR-CALDESC:Eventi per Fiavet Veneto Corsi di Formazione Turismo
BEGIN:VEVENT
DTSTART;VALUE=DATE:20260921
DTEND;VALUE=DATE:20260924
DTSTAMP:20260423T134816
CREATED:20260423T084829Z
LAST-MODIFIED:20260423T084829Z
UID:2623-1789948800-1790207999@www.fiavetvenetoservizi.com
SUMMARY:CORSO ONLINE Biglietteria Aerea IATA
DESCRIPTION:IL CORSO SI SVOLGERA’ ATTRAVERSO LA PIATTAFORMA ZOOM.US \nORARI:\n21 Settembre 09.00-12.00 / 14.00-16.00\n22 Settembre 09.00-12.00 / 14.00-17.00\n23 Settembre 09.00-12.00 / 14.00-16.00 \n
URL:https://www.fiavetvenetoservizi.com/evento/corso-online-biglietteria-aerea-iata-35/
CATEGORIES:Biglietteria Aerea Costruzione Tariffaria - IATA
END:VEVENT
END:VCALENDAR