BEGIN:VCALENDAR
VERSION:2.0
PRODID:-//Fiavet Veneto Corsi di Formazione Turismo - ECPv4.8.2//NONSGML v1.0//EN
CALSCALE:GREGORIAN
METHOD:PUBLISH
X-WR-CALNAME:Fiavet Veneto Corsi di Formazione Turismo
X-ORIGINAL-URL:https://www.fiavetvenetoservizi.com
X-WR-CALDESC:Eventi per Fiavet Veneto Corsi di Formazione Turismo
BEGIN:VEVENT
DTSTART;VALUE=DATE:20260914
DTEND;VALUE=DATE:20260917
DTSTAMP:20260423T133823
CREATED:20260423T085043Z
LAST-MODIFIED:20260423T085043Z
UID:2627-1789344000-1789603199@www.fiavetvenetoservizi.com
SUMMARY:CORSO ONLINE "ONE-TO-ONE" Crs/Gds GALILEO/TRAVELPORT
DESCRIPTION:IL CORSO SI SVOLGERA’ ATTRAVERSO LA PIATTAFORMA ZOOM.US \nMODALITA’ ONE-TO-ONE: 3 giornate di lavoro\, totale 18 ore \nORARI: 09.00-12.00 / 14.00-17.00 \n
URL:https://www.fiavetvenetoservizi.com/evento/corso-online-one-to-one-crs-gds-galileo-travelport-30/
CATEGORIES:Teleprenotazione CRS/GDS
END:VEVENT
END:VCALENDAR